BEGIN:VCALENDAR
VERSION:2.0
PRODID:JMS Hockey
X-PUBLISHED-TTL:P1W
BEGIN:VEVENT
UID:69e79a2beb61a
DTSTART:20110211T040000Z
SEQUENCE:0
TRANSP:OPAQUE
DTEND:20110211T053000Z
URL:http://jmshockey.com/games/2326
LOCATION:Tartan Arena
SUMMARY:All level Game at Tartan Arena
CLASS:PUBLIC
DTSTAMP:20260421T103923Z
END:VEVENT
END:VCALENDAR