BEGIN:VCALENDAR
VERSION:2.0
PRODID:JMS Hockey
X-PUBLISHED-TTL:P1W
BEGIN:VEVENT
UID:69e7b12d0572a
DTSTART:20110203T023000Z
SEQUENCE:0
TRANSP:OPAQUE
DTEND:20110203T040000Z
URL:http://jmshockey.com/games/2324
LOCATION:Polar Arena
SUMMARY:All level Game at Polar Arena
CLASS:PUBLIC
DTSTAMP:20260421T121733Z
END:VEVENT
END:VCALENDAR