BEGIN:VCALENDAR
VERSION:2.0
PRODID:JMS Hockey
X-PUBLISHED-TTL:P1W
BEGIN:VEVENT
UID:69e7cb2f7c70f
DTSTART:20110318T021500Z
SEQUENCE:0
TRANSP:OPAQUE
DTEND:20110318T034500Z
URL:http://jmshockey.com/games/2321
LOCATION:Plymouth Ice Center
SUMMARY:All level Game at Plymouth Ice Center
CLASS:PUBLIC
DTSTAMP:20260421T140831Z
END:VEVENT
END:VCALENDAR