BEGIN:VCALENDAR
VERSION:2.0
PRODID:JMS Hockey
X-PUBLISHED-TTL:P1W
BEGIN:VEVENT
UID:69e7bfd0e2587
DTSTART:20110217T040000Z
SEQUENCE:0
TRANSP:OPAQUE
DTEND:20110217T053000Z
URL:http://jmshockey.com/games/2318
LOCATION:Plymouth Ice Center
SUMMARY:All level Game at Plymouth Ice Center
CLASS:PUBLIC
DTSTAMP:20260421T132000Z
END:VEVENT
END:VCALENDAR