BEGIN:VCALENDAR
VERSION:2.0
PRODID:JMS Hockey
X-PUBLISHED-TTL:P1W
BEGIN:VEVENT
UID:69e7c95b8a1f4
DTSTART:20110203T040000Z
SEQUENCE:0
TRANSP:OPAQUE
DTEND:20110203T053000Z
URL:http://jmshockey.com/games/2316
LOCATION:Plymouth Ice Center
SUMMARY:All level Game at Plymouth Ice Center
CLASS:PUBLIC
DTSTAMP:20260421T140043Z
END:VEVENT
END:VCALENDAR