BEGIN:VCALENDAR
VERSION:2.0
PRODID:JMS Hockey
X-PUBLISHED-TTL:P1W
BEGIN:VEVENT
UID:69e7d6564dd74
DTSTART:20110209T033000Z
SEQUENCE:0
TRANSP:OPAQUE
DTEND:20110209T050000Z
URL:http://jmshockey.com/games/2314
LOCATION:Parade Ice Gardens
SUMMARY:Lower Level Game at Parade Ice Gardens
CLASS:PUBLIC
DTSTAMP:20260421T145606Z
END:VEVENT
END:VCALENDAR