BEGIN:VCALENDAR
VERSION:2.0
PRODID:JMS Hockey
X-PUBLISHED-TTL:P1W
BEGIN:VEVENT
UID:69e7c3ae00119
DTSTART:20110223T021500Z
SEQUENCE:0
TRANSP:OPAQUE
DTEND:20110223T034500Z
URL:http://jmshockey.com/games/2310
LOCATION:Northeast Arena
SUMMARY:Lower Level Game at Northeast Arena
CLASS:PUBLIC
DTSTAMP:20260421T133630Z
END:VEVENT
END:VCALENDAR