BEGIN:VCALENDAR
VERSION:2.0
PRODID:JMS Hockey
X-PUBLISHED-TTL:P1W
BEGIN:VEVENT
UID:69e7b9ad9d15b
DTSTART:20110324T020000Z
SEQUENCE:0
TRANSP:OPAQUE
DTEND:20110324T033000Z
URL:http://jmshockey.com/games/2303
LOCATION:New Hope Ice Arena
SUMMARY:Upper Level Game at New Hope Ice Arena
CLASS:PUBLIC
DTSTAMP:20260421T125349Z
END:VEVENT
END:VCALENDAR