BEGIN:VCALENDAR
VERSION:2.0
PRODID:JMS Hockey
X-PUBLISHED-TTL:P1W
BEGIN:VEVENT
UID:69e7d52284413
DTSTART:20110131T040000Z
SEQUENCE:0
TRANSP:OPAQUE
DTEND:20110131T053000Z
URL:http://jmshockey.com/games/2294
LOCATION:Minnehaha Academy
SUMMARY:Level 1 Game at Minnehaha Academy
CLASS:PUBLIC
DTSTAMP:20260421T145058Z
END:VEVENT
END:VCALENDAR