BEGIN:VCALENDAR
VERSION:2.0
PRODID:JMS Hockey
X-PUBLISHED-TTL:P1W
BEGIN:VEVENT
UID:69e7c3b5a84a4
DTSTART:20110315T023000Z
SEQUENCE:0
TRANSP:OPAQUE
DTEND:20110315T040000Z
URL:http://jmshockey.com/games/2291
LOCATION:Minnetonka Ice Arena
SUMMARY:Level 2 Game at Minnetonka Ice Arena
CLASS:PUBLIC
DTSTAMP:20260421T133637Z
END:VEVENT
END:VCALENDAR