BEGIN:VCALENDAR
VERSION:2.0
PRODID:JMS Hockey
X-PUBLISHED-TTL:P1W
BEGIN:VEVENT
UID:69e7ad9d4b958
DTSTART:20110426T020000Z
SEQUENCE:0
TRANSP:OPAQUE
DTEND:20110426T033000Z
URL:http://jmshockey.com/games/2282
LOCATION:Fogerty Icehouse
SUMMARY:Level 3 Game at Fogerty Icehouse
CLASS:PUBLIC
DTSTAMP:20260421T120221Z
END:VEVENT
END:VCALENDAR