BEGIN:VCALENDAR
VERSION:2.0
PRODID:JMS Hockey
X-PUBLISHED-TTL:P1W
BEGIN:VEVENT
UID:69e7c3abc6d54
DTSTART:20110330T020000Z
SEQUENCE:0
TRANSP:OPAQUE
DTEND:20110330T033000Z
URL:http://jmshockey.com/games/2278
LOCATION:Fogerty Icehouse
SUMMARY:Level 3 Game at Fogerty Icehouse
CLASS:PUBLIC
DTSTAMP:20260421T133627Z
END:VEVENT
END:VCALENDAR