BEGIN:VCALENDAR
VERSION:2.0
PRODID:JMS Hockey
X-PUBLISHED-TTL:P1W
BEGIN:VEVENT
UID:69e7adbf80b3f
DTSTART:20110519T024500Z
SEQUENCE:0
TRANSP:OPAQUE
DTEND:20110519T041500Z
URL:http://jmshockey.com/games/2264
LOCATION:Bloomington Ice Gardens
SUMMARY:Level 2 Game at Bloomington Ice Gardens
CLASS:PUBLIC
DTSTAMP:20260421T120255Z
END:VEVENT
END:VCALENDAR