BEGIN:VCALENDAR
VERSION:2.0
PRODID:JMS Hockey
X-PUBLISHED-TTL:P1W
BEGIN:VEVENT
UID:69e7c3481cfdc
DTSTART:20110322T024500Z
SEQUENCE:0
TRANSP:OPAQUE
DTEND:20110322T041500Z
URL:http://jmshockey.com/games/2242
LOCATION:Bloomington Ice Gardens
SUMMARY:Level 3 Game at Bloomington Ice Gardens
CLASS:PUBLIC
DTSTAMP:20260421T133448Z
END:VEVENT
END:VCALENDAR