BEGIN:VCALENDAR
VERSION:2.0
PRODID:JMS Hockey
X-PUBLISHED-TTL:P1W
BEGIN:VEVENT
UID:69e7bd6bd1426
DTSTART:20110305T031500Z
SEQUENCE:0
TRANSP:OPAQUE
DTEND:20110305T044500Z
URL:http://jmshockey.com/games/2235
LOCATION:Bloomington Ice Gardens
SUMMARY:Level 3 Game at Bloomington Ice Gardens
CLASS:PUBLIC
DTSTAMP:20260421T130947Z
END:VEVENT
END:VCALENDAR