BEGIN:VCALENDAR
VERSION:2.0
PRODID:JMS Hockey
X-PUBLISHED-TTL:P1W
BEGIN:VEVENT
UID:69e7adbe3d66a
DTSTART:20110219T033000Z
SEQUENCE:0
TRANSP:OPAQUE
DTEND:20110219T050000Z
URL:http://jmshockey.com/games/2229
LOCATION:Bloomington Ice Gardens
SUMMARY:Level 2 Game at Bloomington Ice Gardens
CLASS:PUBLIC
DTSTAMP:20260421T120254Z
END:VEVENT
END:VCALENDAR