BEGIN:VCALENDAR
VERSION:2.0
PRODID:JMS Hockey
X-PUBLISHED-TTL:P1W
BEGIN:VEVENT
UID:69e79a2aea3e5
DTSTART:20110208T034500Z
SEQUENCE:0
TRANSP:OPAQUE
DTEND:20110208T051500Z
URL:http://jmshockey.com/games/2224
LOCATION:Bloomington Ice Gardens
SUMMARY:Level 2 Game at Bloomington Ice Gardens
CLASS:PUBLIC
DTSTAMP:20260421T103922Z
END:VEVENT
END:VCALENDAR