BEGIN:VCALENDAR
VERSION:2.0
PRODID:JMS Hockey
X-PUBLISHED-TTL:P1W
BEGIN:VEVENT
UID:69e7a78838809
DTSTART:20110126T040000Z
SEQUENCE:0
TRANSP:OPAQUE
DTEND:20110126T053000Z
URL:http://jmshockey.com/games/2216
LOCATION:Inver Grove Heights Community Center
SUMMARY:Upper Level Game at Inver Grove Heights Community Center
CLASS:PUBLIC
DTSTAMP:20260421T113624Z
END:VEVENT
END:VCALENDAR