BEGIN:VCALENDAR
VERSION:2.0
PRODID:JMS Hockey
X-PUBLISHED-TTL:P1W
BEGIN:VEVENT
UID:69e7c6a3213c3
DTSTART:20110124T040000Z
SEQUENCE:0
TRANSP:OPAQUE
DTEND:20110124T053000Z
URL:http://jmshockey.com/games/2199
LOCATION:Minnehaha Academy
SUMMARY:Level 1 Game at Minnehaha Academy
CLASS:PUBLIC
DTSTAMP:20260421T134907Z
END:VEVENT
END:VCALENDAR