BEGIN:VCALENDAR
VERSION:2.0
PRODID:JMS Hockey
X-PUBLISHED-TTL:P1W
BEGIN:VEVENT
UID:69e7adb698100
DTSTART:20110119T040000Z
SEQUENCE:0
TRANSP:OPAQUE
DTEND:20110119T053000Z
URL:http://jmshockey.com/games/2195
LOCATION:Inver Grove Heights Community Center
SUMMARY:Level 3 Game at Inver Grove Heights Community Center
CLASS:PUBLIC
DTSTAMP:20260421T120246Z
END:VEVENT
END:VCALENDAR