BEGIN:VCALENDAR
VERSION:2.0
PRODID:JMS Hockey
X-PUBLISHED-TTL:P1W
BEGIN:VEVENT
UID:69e7a30b617a9
DTSTART:20110131T020000Z
SEQUENCE:0
TRANSP:OPAQUE
DTEND:20110131T030000Z
URL:http://jmshockey.com/games/2184
LOCATION:Xcel Energy Center
SUMMARY:Upper Level Game at Xcel Energy Center
CLASS:PUBLIC
DTSTAMP:20260421T111715Z
END:VEVENT
END:VCALENDAR