BEGIN:VCALENDAR
VERSION:2.0
PRODID:JMS Hockey
X-PUBLISHED-TTL:P1W
BEGIN:VEVENT
UID:69e7d47b4a583
DTSTART:20110115T041500Z
SEQUENCE:0
TRANSP:OPAQUE
DTEND:20110115T054500Z
URL:http://jmshockey.com/games/2181
LOCATION:Roseville Skating Center
SUMMARY:Level 3 Game at Roseville Skating Center
CLASS:PUBLIC
DTSTAMP:20260421T144811Z
END:VEVENT
END:VCALENDAR