BEGIN:VCALENDAR
VERSION:2.0
PRODID:JMS Hockey
X-PUBLISHED-TTL:P1W
BEGIN:VEVENT
UID:69e7f957e7ef7
DTSTART:20110113T040000Z
SEQUENCE:0
TRANSP:OPAQUE
DTEND:20110113T053000Z
URL:http://jmshockey.com/games/2171
LOCATION:Plymouth Ice Center
SUMMARY:Level 1 Game at Plymouth Ice Center
CLASS:PUBLIC
DTSTAMP:20260421T172527Z
END:VEVENT
END:VCALENDAR