BEGIN:VCALENDAR
VERSION:2.0
PRODID:JMS Hockey
X-PUBLISHED-TTL:P1W
BEGIN:VEVENT
UID:69e7d48a0dd5a
DTSTART:20110108T034500Z
SEQUENCE:0
TRANSP:OPAQUE
DTEND:20110108T051500Z
URL:http://jmshockey.com/games/2154
LOCATION:Richfield Ice Arena
SUMMARY:Level 4 Game at Richfield Ice Arena
CLASS:PUBLIC
DTSTAMP:20260421T144826Z
END:VEVENT
END:VCALENDAR