BEGIN:VCALENDAR
VERSION:2.0
PRODID:JMS Hockey
X-PUBLISHED-TTL:P1W
BEGIN:VEVENT
UID:69e81a816444b
DTSTART:20110106T040000Z
SEQUENCE:0
TRANSP:OPAQUE
DTEND:20110106T053000Z
URL:http://jmshockey.com/games/2149
LOCATION:Plymouth Ice Center
SUMMARY:Level 1 Game at Plymouth Ice Center
CLASS:PUBLIC
DTSTAMP:20260421T194657Z
END:VEVENT
END:VCALENDAR