BEGIN:VCALENDAR
VERSION:2.0
PRODID:JMS Hockey
X-PUBLISHED-TTL:P1W
BEGIN:VEVENT
UID:69e7ca7db9b12
DTSTART:20110105T034000Z
SEQUENCE:0
TRANSP:OPAQUE
DTEND:20110105T051000Z
URL:http://jmshockey.com/games/2144
LOCATION:Fogerty Icehouse
SUMMARY:Level 3 Game at Fogerty Icehouse
CLASS:PUBLIC
DTSTAMP:20260421T140533Z
END:VEVENT
END:VCALENDAR