BEGIN:VCALENDAR
VERSION:2.0
PRODID:JMS Hockey
X-PUBLISHED-TTL:P1W
BEGIN:VEVENT
UID:69e7ca80d2155
DTSTART:20110106T031500Z
SEQUENCE:0
TRANSP:OPAQUE
DTEND:20110106T044500Z
URL:http://jmshockey.com/games/2140
LOCATION:Bloomington Ice Gardens
SUMMARY:Level 4 Game at Bloomington Ice Gardens
CLASS:PUBLIC
DTSTAMP:20260421T140536Z
END:VEVENT
END:VCALENDAR