BEGIN:VCALENDAR
VERSION:2.0
PRODID:JMS Hockey
X-PUBLISHED-TTL:P1W
BEGIN:VEVENT
UID:69e7ae7e4b64f
DTSTART:20101117T040000Z
SEQUENCE:0
TRANSP:OPAQUE
DTEND:20101117T053000Z
URL:http://jmshockey.com/games/2127
LOCATION:Inver Grove Heights Community Center
SUMMARY:Upper Level Game at Inver Grove Heights Community Center
CLASS:PUBLIC
DTSTAMP:20260421T120606Z
END:VEVENT
END:VCALENDAR