BEGIN:VCALENDAR
VERSION:2.0
PRODID:JMS Hockey
X-PUBLISHED-TTL:P1W
BEGIN:VEVENT
UID:69e7ad9ba1f54
DTSTART:20101209T040000Z
SEQUENCE:0
TRANSP:OPAQUE
DTEND:20101209T053000Z
URL:http://jmshockey.com/games/2089
LOCATION:Plymouth Ice Center
SUMMARY:All level Game at Plymouth Ice Center
CLASS:PUBLIC
DTSTAMP:20260421T120219Z
END:VEVENT
END:VCALENDAR