BEGIN:VCALENDAR
VERSION:2.0
PRODID:JMS Hockey
X-PUBLISHED-TTL:P1W
BEGIN:VEVENT
UID:69e7c6a22267a
DTSTART:20101104T031500Z
SEQUENCE:0
TRANSP:OPAQUE
DTEND:20101104T044500Z
URL:http://jmshockey.com/games/2085
LOCATION:Plymouth Ice Center
SUMMARY:All level Game at Plymouth Ice Center
CLASS:PUBLIC
DTSTAMP:20260421T134906Z
END:VEVENT
END:VCALENDAR