BEGIN:VCALENDAR
VERSION:2.0
PRODID:JMS Hockey
X-PUBLISHED-TTL:P1W
BEGIN:VEVENT
UID:69e7d4bfd147d
DTSTART:20101211T040000Z
SEQUENCE:0
TRANSP:OPAQUE
DTEND:20101211T053000Z
URL:http://jmshockey.com/games/2083
LOCATION:Eden Prairie Comm Ctr
SUMMARY:All level Game at Eden Prairie Comm Ctr
CLASS:PUBLIC
DTSTAMP:20260421T144919Z
END:VEVENT
END:VCALENDAR