BEGIN:VCALENDAR
VERSION:2.0
PRODID:JMS Hockey
X-PUBLISHED-TTL:P1W
BEGIN:VEVENT
UID:69e799fc65c36
DTSTART:20101120T033000Z
SEQUENCE:0
TRANSP:OPAQUE
DTEND:20101120T050000Z
URL:http://jmshockey.com/games/2064
LOCATION:Parade Ice Gardens
SUMMARY:Level 3 Game at Parade Ice Gardens
CLASS:PUBLIC
DTSTAMP:20260421T103836Z
END:VEVENT
END:VCALENDAR