BEGIN:VCALENDAR
VERSION:2.0
PRODID:JMS Hockey
X-PUBLISHED-TTL:P1W
BEGIN:VEVENT
UID:69e7d4c1629ef
DTSTART:20101110T040000Z
SEQUENCE:0
TRANSP:OPAQUE
DTEND:20101110T053000Z
URL:http://jmshockey.com/games/2062
LOCATION:Parade Ice Gardens
SUMMARY:Level 2 Game at Parade Ice Gardens
CLASS:PUBLIC
DTSTAMP:20260421T144921Z
END:VEVENT
END:VCALENDAR