BEGIN:VCALENDAR
VERSION:2.0
PRODID:JMS Hockey
X-PUBLISHED-TTL:P1W
BEGIN:VEVENT
UID:69e7adb555f93
DTSTART:20101110T030000Z
SEQUENCE:0
TRANSP:OPAQUE
DTEND:20101110T043000Z
URL:http://jmshockey.com/games/2053
LOCATION:Doug Woog Arena (Wakota)
SUMMARY:Level 3 Game at Doug Woog Arena (Wakota)
CLASS:PUBLIC
DTSTAMP:20260421T120245Z
END:VEVENT
END:VCALENDAR