BEGIN:VCALENDAR
VERSION:2.0
PRODID:JMS Hockey
X-PUBLISHED-TTL:P1W
BEGIN:VEVENT
UID:69e7cb53d9e2a
DTSTART:20101124T033000Z
SEQUENCE:0
TRANSP:OPAQUE
DTEND:20101124T050000Z
URL:http://jmshockey.com/games/2050
LOCATION:St Louis Park Rec Center
SUMMARY:Level 4 Game at St Louis Park Rec Center
CLASS:PUBLIC
DTSTAMP:20260421T140907Z
END:VEVENT
END:VCALENDAR