BEGIN:VCALENDAR
VERSION:2.0
PRODID:JMS Hockey
X-PUBLISHED-TTL:P1W
BEGIN:VEVENT
UID:69e7ad9b8aae8
DTSTART:20101117T033000Z
SEQUENCE:0
TRANSP:OPAQUE
DTEND:20101117T050000Z
URL:http://jmshockey.com/games/2047
LOCATION:St Louis Park Rec Center
SUMMARY:Level 4 Game at St Louis Park Rec Center
CLASS:PUBLIC
DTSTAMP:20260421T120219Z
END:VEVENT
END:VCALENDAR