BEGIN:VCALENDAR
VERSION:2.0
PRODID:JMS Hockey
X-PUBLISHED-TTL:P1W
BEGIN:VEVENT
UID:69e7dd5176328
DTSTART:20101113T023000Z
SEQUENCE:0
TRANSP:OPAQUE
DTEND:20101113T040000Z
URL:http://jmshockey.com/games/2045
LOCATION:St Louis Park Rec Center
SUMMARY:Level 0 Game at St Louis Park Rec Center
CLASS:PUBLIC
DTSTAMP:20260421T152553Z
END:VEVENT
END:VCALENDAR