BEGIN:VCALENDAR
VERSION:2.0
PRODID:JMS Hockey
X-PUBLISHED-TTL:P1W
BEGIN:VEVENT
UID:69e7a3381f3dc
DTSTART:20101106T031500Z
SEQUENCE:0
TRANSP:OPAQUE
DTEND:20101106T044500Z
URL:http://jmshockey.com/games/2043
LOCATION:St Louis Park Rec Center
SUMMARY:Level 3 Game at St Louis Park Rec Center
CLASS:PUBLIC
DTSTAMP:20260421T111800Z
END:VEVENT
END:VCALENDAR