BEGIN:VCALENDAR
VERSION:2.0
PRODID:JMS Hockey
X-PUBLISHED-TTL:P1W
BEGIN:VEVENT
UID:69e7c90453eb6
DTSTART:20101218T033000Z
SEQUENCE:0
TRANSP:OPAQUE
DTEND:20101218T050000Z
URL:http://jmshockey.com/games/2039
LOCATION:Richfield Ice Arena
SUMMARY:Level 4 Game at Richfield Ice Arena
CLASS:PUBLIC
DTSTAMP:20260421T135916Z
END:VEVENT
END:VCALENDAR