BEGIN:VCALENDAR
VERSION:2.0
PRODID:JMS Hockey
X-PUBLISHED-TTL:P1W
BEGIN:VEVENT
UID:69e7959b82d88
DTSTART:20101204T031500Z
SEQUENCE:0
TRANSP:OPAQUE
DTEND:20101204T044500Z
URL:http://jmshockey.com/games/2036
LOCATION:Richfield Ice Arena
SUMMARY:Level 4 Game at Richfield Ice Arena
CLASS:PUBLIC
DTSTAMP:20260421T101955Z
END:VEVENT
END:VCALENDAR