BEGIN:VCALENDAR
VERSION:2.0
PRODID:JMS Hockey
X-PUBLISHED-TTL:P1W
BEGIN:VEVENT
UID:69e7d491a029d
DTSTART:20101127T031500Z
SEQUENCE:0
TRANSP:OPAQUE
DTEND:20101127T044500Z
URL:http://jmshockey.com/games/2035
LOCATION:Richfield Ice Arena
SUMMARY:Level 2 Game at Richfield Ice Arena
CLASS:PUBLIC
DTSTAMP:20260421T144833Z
END:VEVENT
END:VCALENDAR