BEGIN:VCALENDAR
VERSION:2.0
PRODID:JMS Hockey
X-PUBLISHED-TTL:P1W
BEGIN:VEVENT
UID:69e7cca215e72
DTSTART:20101204T034000Z
SEQUENCE:0
TRANSP:OPAQUE
DTEND:20101204T051000Z
URL:http://jmshockey.com/games/2021
LOCATION:Fogerty Icehouse
SUMMARY:All level Game at Fogerty Icehouse
CLASS:PUBLIC
DTSTAMP:20260421T141442Z
END:VEVENT
END:VCALENDAR