BEGIN:VCALENDAR
VERSION:2.0
PRODID:JMS Hockey
X-PUBLISHED-TTL:P1W
BEGIN:VEVENT
UID:69e7dc7edd82a
DTSTART:20101110T040000Z
SEQUENCE:0
TRANSP:OPAQUE
DTEND:20101110T053000Z
URL:http://jmshockey.com/games/2014
LOCATION:Fogerty Icehouse
SUMMARY:Level 3 Game at Fogerty Icehouse
CLASS:PUBLIC
DTSTAMP:20260421T152222Z
END:VEVENT
END:VCALENDAR