BEGIN:VCALENDAR
VERSION:2.0
PRODID:JMS Hockey
X-PUBLISHED-TTL:P1W
BEGIN:VEVENT
UID:69e7d777b6c65
DTSTART:20101102T023000Z
SEQUENCE:0
TRANSP:OPAQUE
DTEND:20101102T040000Z
URL:http://jmshockey.com/games/2007
LOCATION:Breck Anderson Arena
SUMMARY:Level 1 Game at Breck Anderson Arena
CLASS:PUBLIC
DTSTAMP:20260421T150055Z
END:VEVENT
END:VCALENDAR