BEGIN:VCALENDAR
VERSION:2.0
PRODID:JMS Hockey
X-PUBLISHED-TTL:P1W
BEGIN:VEVENT
UID:69e7d4363d82f
DTSTART:20101124T021500Z
SEQUENCE:0
TRANSP:OPAQUE
DTEND:20101124T034500Z
URL:http://jmshockey.com/games/1998
LOCATION:Northeast Arena
SUMMARY:Level 2 Game at Northeast Arena
CLASS:PUBLIC
DTSTAMP:20260421T144702Z
END:VEVENT
END:VCALENDAR