BEGIN:VCALENDAR
VERSION:2.0
PRODID:JMS Hockey
X-PUBLISHED-TTL:P1W
BEGIN:VEVENT
UID:69e7c34a06508
DTSTART:20101123T021500Z
SEQUENCE:0
TRANSP:OPAQUE
DTEND:20101123T034500Z
URL:http://jmshockey.com/games/1997
LOCATION:Northeast Arena
SUMMARY:All level Game at Northeast Arena
CLASS:PUBLIC
DTSTAMP:20260421T133450Z
END:VEVENT
END:VCALENDAR