BEGIN:VCALENDAR
VERSION:2.0
PRODID:JMS Hockey
X-PUBLISHED-TTL:P1W
BEGIN:VEVENT
UID:69e7d4252e33a
DTSTART:20101118T033000Z
SEQUENCE:0
TRANSP:OPAQUE
DTEND:20101118T050000Z
URL:http://jmshockey.com/games/1996
LOCATION:Northeast Arena
SUMMARY:Level 2 Game at Northeast Arena
CLASS:PUBLIC
DTSTAMP:20260421T144645Z
END:VEVENT
END:VCALENDAR