BEGIN:VCALENDAR
VERSION:2.0
PRODID:JMS Hockey
X-PUBLISHED-TTL:P1W
BEGIN:VEVENT
UID:69e7999d52262
DTSTART:20101109T021500Z
SEQUENCE:0
TRANSP:OPAQUE
DTEND:20101109T034500Z
URL:http://jmshockey.com/games/1994
LOCATION:Northeast Arena
SUMMARY:All level Game at Northeast Arena
CLASS:PUBLIC
DTSTAMP:20260421T103701Z
END:VEVENT
END:VCALENDAR