BEGIN:VCALENDAR
VERSION:2.0
PRODID:JMS Hockey
X-PUBLISHED-TTL:P1W
BEGIN:VEVENT
UID:69e7835981f38
DTSTART:20101104T023000Z
SEQUENCE:0
TRANSP:OPAQUE
DTEND:20101104T040000Z
URL:http://jmshockey.com/games/1993
LOCATION:Northeast Arena
SUMMARY:Level 5 Game at Northeast Arena
CLASS:PUBLIC
DTSTAMP:20260421T090201Z
END:VEVENT
END:VCALENDAR