BEGIN:VCALENDAR
VERSION:2.0
PRODID:JMS Hockey
X-PUBLISHED-TTL:P1W
BEGIN:VEVENT
UID:69e7b0ba920e9
DTSTART:20101214T034500Z
SEQUENCE:0
TRANSP:OPAQUE
DTEND:20101214T051500Z
URL:http://jmshockey.com/games/1983
LOCATION:Bloomington Ice Gardens
SUMMARY:Level 3 Game at Bloomington Ice Gardens
CLASS:PUBLIC
DTSTAMP:20260421T121538Z
END:VEVENT
END:VCALENDAR